BEGIN:VCALENDAR
VERSION:2.0
PRODID:-//nnj5va.sites.ecatholic.com//eCatholic//EN
X-WR-TIMEZONE:LocalTZ
BEGIN:VTIMEZONE
TZID:LocalTZ
X-LIC-LOCATION:LocalTZ
BEGIN:DAYLIGHT
TZOFFSETFROM:-0600
TZOFFSETTO:-0500
TZNAME:LocalTZ
DTSTART:19700308T020000
RRULE:FREQ=YEARLY;BYMONTH=3;BYDAY=2SU
END:DAYLIGHT
BEGIN:STANDARD
TZOFFSETFROM:-0500
TZOFFSETTO:-0600
TZNAME:LocalTZ
DTSTART:19701101T020000
RRULE:FREQ=YEARLY;BYMONTH=11;BYDAY=1SU
END:STANDARD
END:VTIMEZONE
BEGIN:VEVENT
UID:2928930@nnj5va.sites.ecatholic.com
DTSTAMP:20260420T091823Z
DTSTART:20260420T183000
DTEND:20260420T200000
RRULE:FREQ=MONTHLY;BYDAY=MO;BYSETPOS=3
SUMMARY:Men's Divorce Support Group
DESCRIPTION:St. Maria Goretti Church - Madison
END:VEVENT
BEGIN:VEVENT
UID:2930297@nnj5va.sites.ecatholic.com
DTSTAMP:20260420T091823Z
DTSTART:20260511T183000
DTEND:20260511T200000
RRULE:FREQ=MONTHLY;BYDAY=MO;BYSETPOS=2
SUMMARY:Women's Divorce Support Group
DESCRIPTION:St. Maria Goretti Church - Madison
END:VEVENT
END:VCALENDAR
